BEGIN:VCALENDAR
VERSION:2.0
PRODID:-//ChamberMaster//Event Calendar 2.0//EN
METHOD:PUBLISH
X-PUBLISHED-TTL:P3D
REFRESH-INTERVAL:P3D
CALSCALE:GREGORIAN
BEGIN:VEVENT
DTSTART:20251231T210000Z
DTEND:20260101T010000Z
X-MICROSOFT-CDO-ALLDAYEVENT:FALSE
SUMMARY:Winter Market / Taos Ski Valley
DESCRIPTION:Artists\, see our website for more details and to apply to be a vendor!\n\n\n\nGet a head start on the New Year at our festive Winter Market!\n\n\n\nBrowse unique local artisans\, enjoy seasonal treats\, and find one-of-a-kind gifts all set against the beautiful Taos Ski Valley backdrop. Perfect for friends and family before the evening's celebrations.\n\n\n\nApply to be a vendor today! Indoor and outdoor spaces available
X-ALT-DESC;FMTTYPE=text/html:<br />\nArtists\, see our website for more details and to apply to be a vendor!<br />\n<br />\n<em><strong>Get a head start on the New Year at our festive Winter Market!</strong></em><br />\n<br />\nBrowse unique local artisans\, enjoy seasonal treats\, and find one-of-a-kind gifts&mdash\;all set against the beautiful Taos Ski Valley backdrop. Perfect for friends and family before the evening&rsquo\;s celebrations.<br />\n<br />\nApply to be a vendor today! Indoor and outdoor spaces available
LOCATION:Taos Ski Valley
UID:e.80.36541
SEQUENCE:3
DTSTAMP:20260425T172059Z
URL:https://www.taoschamber.com/events/details/winter-market-taos-ski-valley-36541
END:VEVENT

END:VCALENDAR
