BEGIN:VCALENDAR
VERSION:2.0
PRODID:-//ChamberMaster//Event Calendar 2.0//EN
METHOD:PUBLISH
X-PUBLISHED-TTL:P3D
REFRESH-INTERVAL:P3D
CALSCALE:GREGORIAN
BEGIN:VEVENT
DTSTART:20260422T230000Z
DTEND:20260423T020000Z
X-MICROSOFT-CDO-ALLDAYEVENT:FALSE
SUMMARY:Volleyball
DESCRIPTION:Serve Up Some Fun at DALEEE KTAOS! \n\nJoin us every Wednesday and Friday at 5 PM for free\, all-levels volleyball in the backyard of Taos\, proudly presented by PPC Solar and Red Willow Hospice. Set against the stunning backdrop of the Sangre de Cristo Mountains\, it's the perfect way to enjoy the evening with friends and community.
X-ALT-DESC;FMTTYPE=text/html:<p><strong>Serve Up Some Fun at DALEEE KTAOS!&nbsp\;</strong></p>\n\n<p><strong>Join us every Wednesday and Friday at 5 PM for free\, all-levels volleyball in the backyard of Taos\, proudly presented by PPC Solar and Red Willow Hospice. Set against the stunning backdrop of the Sangre de Cristo Mountains\, it&#39\;s the perfect way to enjoy the evening with friends and community.</strong></p>\n\n<div>&nbsp\;</div>\n
LOCATION:DALEEE KTAOS
UID:e.80.38765
SEQUENCE:3
DTSTAMP:20260420T093331Z
URL:https://www.taoschamber.com/events/details/volleyball-04-22-2026-38765
END:VEVENT

END:VCALENDAR
