BEGIN:VCALENDAR
VERSION:2.0
PRODID:-//ChamberMaster//Event Calendar 2.0//EN
METHOD:PUBLISH
X-PUBLISHED-TTL:P3D
REFRESH-INTERVAL:P3D
CALSCALE:GREGORIAN
BEGIN:VEVENT
DTSTART:20260423T200000Z
DTEND:20260424T000000Z
X-MICROSOFT-CDO-ALLDAYEVENT:FALSE
SUMMARY:Taos Film Festival
DESCRIPTION:2026 Taos Film Festival  \n\n\n\nApril 23   26  \n\n\n\nTaos Film Festival showcases independent filmmaking voices from around the world and our own backyard. \n\n\n\n100+ Films & Special Presentations   view the Film Guide & Schedule \n\n\n\nAbout the Festival \n\n\n\nOver four days at the end of April\, 2026\, the inaugural Taos Film Festival will screen dozens of films that speak to the resilient heart of our community. TaosFF amplifies independent filmmaking voices from New Mexico and around the world. \n\n\n\nThe inaugural Taos Film Festival is organized by the Taos Center for the Arts (TCA) and screenings will be available at venues throughout town and will include feature-length and short-form narrative and documentary films\, including animation and experiential projects. In addition to screenings\, TaosFF connects artists and audiences through Q&As\, talks and creative workshops. \n\n\n\nFor more information visit taosff.org.
X-ALT-DESC;FMTTYPE=text/html:<div>\n<p><strong>2026 Taos Film Festival&nbsp\;</strong><span style="font-family:calibri\,calibri_embeddedfont\,calibri_msfontservice\,sans-serif\; font-size:12pt">&nbsp\;</span></p>\n</div>\n\n<div>\n<p><strong>April 23 &ndash\; 26&nbsp\;</strong><span style="font-family:calibri\,calibri_embeddedfont\,calibri_msfontservice\,sans-serif\; font-size:12pt">&nbsp\;</span></p>\n</div>\n\n<div>\n<p><span style="font-family:calibri\,calibri_embeddedfont\,calibri_msfontservice\,sans-serif\; font-size:12pt">Taos Film Festival&nbsp\;showcases&nbsp\;independent filmmaking voices from around the world and our own backyard.</span><span style="font-family:calibri\,calibri_embeddedfont\,calibri_msfontservice\,sans-serif\; font-size:12pt">&nbsp\;</span></p>\n</div>\n\n<div>\n<p><span style="font-family:calibri\,calibri_embeddedfont\,calibri_msfontservice\,sans-serif\; font-size:12pt">100+ Films &amp\; Special Presentations &ndash\; view the</span><a class="Hyperlink SCXW186411596 BCX8" href="https://taosff.org/festival/" rel="noreferrer noopener" style="-webkit-user-drag: none\; -webkit-tap-highlight-color: transparent\; margin: 0px\; padding: 0px\; user-select: text\; text-decoration-line: none\; color: inherit\;" target="_blank"><strong>&nbsp\;</strong></a><strong><a href="https://taosff.org/festival/" target="_blank">Film Guide &amp\; Schedule</a></strong><a href="https://taosff.org/festival/"><span style="font-family:aptos\,aptos_embeddedfont\,aptos_msfontservice\,sans-serif\; font-size:12pt">&nbsp\;</span></a></p>\n</div>\n\n<div>\n<p><strong>About the Festival</strong><span style="font-family:calibri\,calibri_embeddedfont\,calibri_msfontservice\,sans-serif\; font-size:12pt">&nbsp\;</span></p>\n</div>\n\n<div>\n<p><span style="font-family:calibri\,calibri_embeddedfont\,calibri_msfontservice\,sans-serif\; font-size:12pt">Over four days at the end of&nbsp\;April\,&nbsp\;2026\, the inaugural Taos Film Festival will screen dozens of films that speak to the resilient heart of our community.&nbsp\;TaosFF&nbsp\;amplifies independent filmmaking voices from New Mexico and around the world.</span><span style="font-family:calibri\,calibri_embeddedfont\,calibri_msfontservice\,sans-serif\; font-size:12pt">&nbsp\;</span></p>\n</div>\n\n<div>\n<p><span style="font-family:calibri\,calibri_embeddedfont\,calibri_msfontservice\,sans-serif\; font-size:12pt">The inaugural Taos Film Festival is organized by the Taos Center for the Arts (TCA) and screenings will be available at venues throughout town and will include feature-length and short-form narrative and documentary films\, including animation and experiential projects. In addition to screenings\,&nbsp\;TaosFF&nbsp\;connects artists and audiences through Q&amp\;As\,&nbsp\;talks&nbsp\;and creative workshops.</span><span style="font-family:calibri\,calibri_embeddedfont\,calibri_msfontservice\,sans-serif\; font-size:12pt">&nbsp\;</span></p>\n</div>\n\n<div>\n<p><span style="font-family:calibri\,calibri_embeddedfont\,calibri_msfontservice\,sans-serif\; font-size:12pt">For more information visit<a href="https://taosff.org/" target="_blank">&nbsp\;</a></span><a href="https://taosff.org/" target="_blank"><strong>taosff.org</strong></a><a href="https://taosff.org/" target="_blank"><span style="font-family:calibri\,calibri_embeddedfont\,calibri_msfontservice\,sans-serif\; font-size:12pt">.</span><span style="font-family:calibri\,calibri_embeddedfont\,calibri_msfontservice\,sans-serif\; font-size:12pt">&nbsp\;</span></a></p>\n</div>\n
LOCATION:The Harwood Museum of Art 238 Ledoux Street Taos\, NM 87571
UID:e.80.39554
SEQUENCE:3
DTSTAMP:20260423T090748Z
URL:https://www.taoschamber.com/events/details/taos-film-festival-04-23-2026-39554
END:VEVENT

END:VCALENDAR
