BEGIN:VCALENDAR
VERSION:2.0
PRODID:-//ChamberMaster//Event Calendar 2.0//EN
METHOD:PUBLISH
X-PUBLISHED-TTL:P3D
REFRESH-INTERVAL:P3D
CALSCALE:GREGORIAN
BEGIN:VEVENT
DTSTART:20260424T220000Z
DTEND:20260425T010000Z
X-MICROSOFT-CDO-ALLDAYEVENT:FALSE
SUMMARY:Music in the Tiki Bar with DJ Floor Da Mic
DESCRIPTION:Music in the Tiki Bar   Every Friday with DJ FLOOR DA MIC at DALEEE (weather permitting)! \n\nKick off your weekend right at Music in the Tiki Bar\, a free weekly event every Friday at from 4 -7 PM at DALEEE! The drinks are flowing\, volleyballs are flying\, and the vibes are sky-high at this weekly grill and chill.
X-ALT-DESC;FMTTYPE=text/html:<p style="margin-left: 40px\;"><span style="font-size:14px\;"><span style="color: rgb(13\, 13\, 13)\; font-family: arial\, sans-serif\;">Music in the Tiki Bar &ndash\; Every Friday with DJ FLOOR DA MIC at DALEEE (weather permitting)!&nbsp\;</span></span></p>\n\n<p style="margin-left: 40px\;"><span style="font-size:14px\;"><span style="color: rgb(13\, 13\, 13)\; font-family: arial\, sans-serif\;">Kick off your weekend right at Music in the Tiki Bar\, a free weekly event every Friday at from 4 -7 PM at DALEEE! The drinks are flowing\, volleyballs are flying\, and the vibes are sky-high at this weekly grill and chill.&nbsp\;</span></span></p>\n\n<div>&nbsp\;</div>\n\n<div>&nbsp\;</div>\n
LOCATION:DALEEE KTAOS
UID:e.80.39766
SEQUENCE:3
DTSTAMP:20260424T082221Z
URL:https://www.taoschamber.com/events/details/music-in-the-tiki-bar-with-dj-floor-da-mic-39766
END:VEVENT

END:VCALENDAR
