BEGIN:VCALENDAR
VERSION:2.0
PRODID:-//ChamberMaster//Event Calendar 2.0//EN
METHOD:PUBLISH
X-PUBLISHED-TTL:P3D
REFRESH-INTERVAL:P3D
CALSCALE:GREGORIAN
BEGIN:VEVENT
DTSTART:20230527T230000Z
DTEND:20230528T010000Z
X-MICROSOFT-CDO-ALLDAYEVENT:FALSE
SUMMARY:Jo Bertini 'Mountain of the Watchful Heart'
DESCRIPTION:Taos Historic Museums announces a new solo exhibition\, Mountain of the Watchful Heart\, featuring the paintings by renowned Australian artist Jo Bertini on view at the E.L. Blumenschein Home and Museum May 27- July 31\, 2023.
X-ALT-DESC;FMTTYPE=text/html:Taos Historic Museums announces a new solo exhibition\, Mountain of the Watchful Heart\, featuring the paintings by renowned Australian artist Jo Bertini on view at the E.L. Blumenschein Home and Museum May 27- July 31\, 2023.
LOCATION:Blumenschein Home and Museum
UID:e.80.25478
SEQUENCE:3
DTSTAMP:20260419T182834Z
URL:https://www.taoschamber.com/events/details/jo-bertini-mountain-of-the-watchful-heart-25478
END:VEVENT

END:VCALENDAR
