BEGIN:VCALENDAR
VERSION:2.0
PRODID:-//ChamberMaster//Event Calendar 2.0//EN
METHOD:PUBLISH
X-PUBLISHED-TTL:P3D
REFRESH-INTERVAL:P3D
CALSCALE:GREGORIAN
BEGIN:VEVENT
DTSTART:20210807T210000Z
DTEND:20210807T230000Z
X-MICROSOFT-CDO-ALLDAYEVENT:FALSE
SUMMARY:Historic site open house | Glimpses of the Past: Historic New Mexico Prints 1880-1950
DESCRIPTION:Join us for our First Saturday Open House 3-5 pm. Docents will be present in every room providing in-depth knowledge of the E.I. Couse home and studio\, the Virginia Walker Couse Heritage Garden\, Kibbey Couse's machine shop\, and the J.H. Sharp 1915 Studio and exhibition of his work\, collections\, and ephemera.\n\n\n\nIncluded in the open house is the graphic arts exhibition Glimpses of the Past: Historic New Mexico Prints 1880-1950. This summer and fall\, Couse-Sharp Historic Site presents a significant exhibition of graphic media focusing on northern New Mexico\, including many artworks never before seen by the public. The 52 works encompass techniques ranging from etching and lithography to woodblock printing\, linocut\, aquatint\, serigraphy and monotype. The exhibition will be on view in the 1830s Luna Family Chapel by appointment and on many Saturdays through November 6\, 2021. For more information and a virtual look at the exhibition\, visit GlimpsesofthePast.org. To make tour appointments\, visit couse-sharp.org/tour
X-ALT-DESC;FMTTYPE=text/html:<span style="font-family:tahoma">Join us for our First Saturday Open House 3-5 pm. Docents will be present in every room providing in-depth knowledge of the E.I. Couse home and studio\, the Virginia Walker Couse Heritage Garden\, Kibbey Couse&#39\;s machine shop\, and the J.H. Sharp 1915 Studio and exhibition of his work\, collections\, and ephemera.<br />\n<br />\nIncluded in the open house is the graphic arts exhibition <em>Glimpses of the Past: Historic New Mexico Prints 1880-1950</em>. <span style="color:black">This summer and fall\, Couse-Sharp Historic Site presents </span><span style="color:black">a significant exhibition of graphic media focusing on northern New Mexico\, including many artworks never before seen by the public. The 52 works encompass techniques ranging from etching and lithography to woodblock printing\, linocut\, aquatint\, serigraphy and monotype. </span>The exhibition will be on view in the 1830s Luna Family Chapel by appointment and on many Saturdays through November 6\, 2021. For more information and a virtual look at the exhibition\, visit GlimpsesofthePast.org. To make tour appointments\, visit couse-sharp.org/tour<br />\n&nbsp\;</span><br />\n&nbsp\;
LOCATION:Couse-Sharp Historic Site\, 146 Kit Carson Road\, Taos
UID:e.80.23185
SEQUENCE:3
DTSTAMP:20260422T163143Z
URL:https://www.taoschamber.com/events/details/historic-site-open-house-glimpses-of-the-past-historic-new-mexico-prints-1880-1950-23185
END:VEVENT

END:VCALENDAR
