BEGIN:VCALENDAR
VERSION:2.0
PRODID:-//ChamberMaster//Event Calendar 2.0//EN
METHOD:PUBLISH
X-PUBLISHED-TTL:P3D
REFRESH-INTERVAL:P3D
CALSCALE:GREGORIAN
BEGIN:VEVENT
DTSTART:20230603T170000Z
DTEND:20230603T220000Z
X-MICROSOFT-CDO-ALLDAYEVENT:FALSE
SUMMARY:Harwood 100 Block Party
DESCRIPTION:Harwood Museum of Art is celebrating 100 years as a center for art and culture in Taos with a Block Party on Ledoux Street! \n\n\n\nYou are invited Saturday\, June 3 from 11am-4pm to kick off the Harwood Centennial with performances\, art making\, local food vendors and creative activities for all ages. Featuring free museum admission all day for everyone\, this is the first chance to experience a new special Centennial exhibition\, spanning 100 years of Harwood history. \n\n\n\n  \n\n\n\nThe Harwood Front Plaza will transform into a stage for the day.  At noon\, local Taos leaders will help Executive Director Juniper Leherissey herald in the next 100 years and kick-off a concert series showcasing a wide range of local talent. \n\n\n\nPerformers include:   \n\n\n\n\n	\n	Concepto Tambor  \n	\n	\n	Garry Blackchild  \n	\n	\n	Taos Chamber Music Group  \n	\n	\n	Doc the High Hawk  \n	\n	\n	Are You Happy? w/ Miles Bonny and Dirty Steve \n	\n	\n	Taos Opera Institute  \n	\n\n\n\n\n  \n\n\n\nThe Museum's Ledoux street neighbors\, including Barra Vino\, Taos Art Supply\, Inger Jirby Gallery\, Viki Zillioux\, and Blumenschein Home and Museum\, will join us for this milestone moment hosting activities up and down the block. Additionally\, Harwood partners Youth Heartline will help us celebrate with sidewalk chart art and bubbles and the Harwood Alliance will raffle off special birthday gifts to the community. Feed your creativity with Harwood Education by designing a special birthday button to take home\, and fill up your tummy with local favorites from the Hot Dog Lady's cart and Loteria Paleteria or check out the BBQ specials at Barra Vino. Whether you are visiting Taos for the day or have lived here for generations\, this day offers something for everyone to celebrate the creative spirit of Taos.
X-ALT-DESC;FMTTYPE=text/html:<div>\n<p><strong>Harwood Museum of Art is celebrating 100 years as a center for art and culture in Taos with a Block Party on Ledoux Street!</strong><span style="color:windowtext\; font-family:calibri\,calibri_embeddedfont\,calibri_msfontservice\,sans-serif\; font-size:12pt">&nbsp\;</span></p>\n</div>\n\n<div>\n<p><span style="color:windowtext\; font-family:calibri\,calibri_embeddedfont\,calibri_msfontservice\,sans-serif\; font-size:12pt">You are invited&nbsp\;</span><strong>Saturday\, June 3 from 11am-4pm</strong><span style="color:windowtext\; font-family:calibri\,calibri_embeddedfont\,calibri_msfontservice\,sans-serif\; font-size:12pt">&nbsp\;to kick off the Harwood Centennial with performances\, art making\, local food vendors and creative activities for all ages. Featuring free museum admission all day for everyone\, this is the first chance to experience a new special Centennial exhibition\, spanning 100 years of Harwood history.</span><span style="color:windowtext\; font-family:calibri\,calibri_embeddedfont\,calibri_msfontservice\,sans-serif\; font-size:12pt">&nbsp\;</span></p>\n</div>\n\n<div>\n<p><span style="color:windowtext\; font-family:calibri\,calibri_embeddedfont\,calibri_msfontservice\,sans-serif\; font-size:12pt">&nbsp\;</span><span style="color:windowtext\; font-family:calibri\,calibri_embeddedfont\,calibri_msfontservice\,sans-serif\; font-size:12pt">&nbsp\;</span></p>\n</div>\n\n<div>\n<p><span style="color:windowtext\; font-family:calibri\,calibri_embeddedfont\,calibri_msfontservice\,sans-serif\; font-size:12pt">The Harwood Front Plaza will transform into a stage for the day.&nbsp\; At noon\, local Taos leaders will help Executive Director Juniper Leherissey herald in the next 100 years and kick-off a concert series showcasing a wide range of local talent.</span><span style="color:windowtext\; font-family:calibri\,calibri_embeddedfont\,calibri_msfontservice\,sans-serif\; font-size:12pt">&nbsp\;</span></p>\n</div>\n\n<div>\n<p><span style="color:windowtext\; font-family:calibri\,calibri_embeddedfont\,calibri_msfontservice\,sans-serif\; font-size:12pt">Performers include:&nbsp\;&nbsp\;</span><span style="color:windowtext\; font-family:calibri\,calibri_embeddedfont\,calibri_msfontservice\,sans-serif\; font-size:12pt">&nbsp\;</span></p>\n</div>\n\n<div>\n<ul>\n	<li>\n	<p><a class="Hyperlink SCXW199808625 BCX0" href="https://www.instagram.com/conceptotamborband/?hl=en" rel="noreferrer noopener" style="margin: 0px\; padding: 0px\; user-select: text\; -webkit-user-drag: none\; -webkit-tap-highlight-color: transparent\; text-decoration-line: none\; color: inherit\;" target="_blank"><strong>Concepto Tambor</strong></a><span style="color:windowtext\; font-family:calibri\,calibri_embeddedfont\,calibri_msfontservice\,sans-serif\; font-size:12pt">&nbsp\;</span><span style="color:windowtext\; font-family:calibri\,calibri_embeddedfont\,calibri_msfontservice\,sans-serif\; font-size:12pt">&nbsp\;</span></p>\n	</li>\n	<li>\n	<p><a class="Hyperlink SCXW199808625 BCX0" href="https://www.instagram.com/garryblackchildmusic/?hl=en" rel="noreferrer noopener" style="margin: 0px\; padding: 0px\; user-select: text\; -webkit-user-drag: none\; -webkit-tap-highlight-color: transparent\; text-decoration-line: none\; color: inherit\;" target="_blank"><strong>Garry Blackchild</strong></a><span style="color:windowtext\; font-family:calibri\,calibri_embeddedfont\,calibri_msfontservice\,sans-serif\; font-size:12pt">&nbsp\;</span><span style="color:windowtext\; font-family:calibri\,calibri_embeddedfont\,calibri_msfontservice\,sans-serif\; font-size:12pt">&nbsp\;</span></p>\n	</li>\n	<li>\n	<p><a class="Hyperlink SCXW199808625 BCX0" href="https://taoschambermusicgroup.org/" rel="noreferrer noopener" style="margin: 0px\; padding: 0px\; user-select: text\; -webkit-user-drag: none\; -webkit-tap-highlight-color: transparent\; text-decoration-line: none\; color: inherit\;" target="_blank"><strong>Taos Chamber Music Group</strong></a><span style="color:windowtext\; font-family:calibri\,calibri_embeddedfont\,calibri_msfontservice\,sans-serif\; font-size:12pt">&nbsp\;</span><span style="color:windowtext\; font-family:calibri\,calibri_embeddedfont\,calibri_msfontservice\,sans-serif\; font-size:12pt">&nbsp\;</span></p>\n	</li>\n	<li>\n	<p><a class="Hyperlink SCXW199808625 BCX0" href="https://open.spotify.com/artist/2tGmDgdj4tcJ6hSmxEM1TQ" rel="noreferrer noopener" style="margin: 0px\; padding: 0px\; user-select: text\; -webkit-user-drag: none\; -webkit-tap-highlight-color: transparent\; text-decoration-line: none\; color: inherit\;" target="_blank"><strong>Doc the High Hawk</strong></a><span style="color:windowtext\; font-family:calibri\,calibri_embeddedfont\,calibri_msfontservice\,sans-serif\; font-size:12pt">&nbsp\;</span><span style="color:windowtext\; font-family:calibri\,calibri_embeddedfont\,calibri_msfontservice\,sans-serif\; font-size:12pt">&nbsp\;</span></p>\n	</li>\n	<li>\n	<p><span style="color:windowtext\; font-family:calibri\,calibri_embeddedfont\,calibri_msfontservice\,sans-serif\; font-size:12pt">Are You Happy? w/&nbsp\;</span><a class="Hyperlink SCXW199808625 BCX0" href="http://www.milesbonny.com/" rel="noreferrer noopener" style="margin: 0px\; padding: 0px\; user-select: text\; -webkit-user-drag: none\; -webkit-tap-highlight-color: transparent\; text-decoration-line: none\; color: inherit\;" target="_blank"><strong>Miles Bonny</strong></a><span style="color:windowtext\; font-family:calibri\,calibri_embeddedfont\,calibri_msfontservice\,sans-serif\; font-size:12pt">&nbsp\;and&nbsp\;</span><a class="Hyperlink SCXW199808625 BCX0" href="https://www.instagram.com/stevie_dirty/?hl=en" rel="noreferrer noopener" style="margin: 0px\; padding: 0px\; user-select: text\; -webkit-user-drag: none\; -webkit-tap-highlight-color: transparent\; text-decoration-line: none\; color: inherit\;" target="_blank"><strong>Dirty Steve</strong></a><span style="color:windowtext\; font-family:calibri\,calibri_embeddedfont\,calibri_msfontservice\,sans-serif\; font-size:12pt">&nbsp\;</span></p>\n	</li>\n	<li>\n	<p><a class="Hyperlink SCXW199808625 BCX0" href="https://www.taosoi.org/" rel="noreferrer noopener" style="margin: 0px\; padding: 0px\; user-select: text\; -webkit-user-drag: none\; -webkit-tap-highlight-color: transparent\; text-decoration-line: none\; color: inherit\;" target="_blank"><strong>Taos Opera Institute</strong></a><span style="color:windowtext\; font-family:calibri\,calibri_embeddedfont\,calibri_msfontservice\,sans-serif\; font-size:12pt">&nbsp\;</span><span style="color:windowtext\; font-family:calibri\,calibri_embeddedfont\,calibri_msfontservice\,sans-serif\; font-size:12pt">&nbsp\;</span></p>\n	</li>\n</ul>\n</div>\n\n<div>\n<p><span style="color:windowtext\; font-family:calibri\,calibri_embeddedfont\,calibri_msfontservice\,sans-serif\; font-size:12pt">&nbsp\;</span><span style="color:windowtext\; font-family:calibri\,calibri_embeddedfont\,calibri_msfontservice\,sans-serif\; font-size:12pt">&nbsp\;</span></p>\n</div>\n\n<div>\n<p><span style="color:windowtext\; font-family:calibri\,calibri_embeddedfont\,calibri_msfontservice\,sans-serif\; font-size:12pt">The Museum&rsquo\;s&nbsp\;Ledoux street neighbors\, including&nbsp\;Barra Vino\,&nbsp\;Taos Art Supply\,&nbsp\;Inger Jirby Gallery\,&nbsp\;Viki Zillioux\, and&nbsp\;Blumenschein Home and Museum\, will join us for this milestone moment hosting activities up and down the block.&nbsp\;Additionally\, Harwood partners Youth Heartline will help us celebrate with sidewalk chart art and bubbles and the Harwood Alliance will&nbsp\;raffle&nbsp\;off special birthday gifts to the community.&nbsp\;Feed your&nbsp\;creativity&nbsp\;with Harwood Education by designing&nbsp\;a&nbsp\;special birthday&nbsp\;button to take home\, and fill up your tummy&nbsp\;with local favorites from&nbsp\;the Hot Dog Lady&rsquo\;s cart&nbsp\;and&nbsp\;Loteria&nbsp\;Paleteria&nbsp\;or check out the BBQ specials at Barra Vino. Whether you are visiting Taos for the day or have lived here for generations\, this day offers something for everyone to celebrate the creative spirit of Taos.</span><span style="color:windowtext\; font-family:calibri\,calibri_embeddedfont\,calibri_msfontservice\,sans-serif\; font-size:12pt">&nbsp\;</span></p>\n</div>\n
LOCATION:Harwood Museum of Art 238 Ledoux Street Taos\, NM 87571
UID:e.80.25479
SEQUENCE:3
DTSTAMP:20260420T031028Z
URL:https://www.taoschamber.com/events/details/harwood-100-block-party-25479
END:VEVENT

END:VCALENDAR
