BEGIN:VCALENDAR
VERSION:2.0
PRODID:-//ChamberMaster//Event Calendar 2.0//EN
METHOD:PUBLISH
X-PUBLISHED-TTL:P3D
REFRESH-INTERVAL:P3D
CALSCALE:GREGORIAN
BEGIN:VEVENT
DTSTART:20260323T000000Z
DTEND:20260323T020000Z
X-MICROSOFT-CDO-ALLDAYEVENT:FALSE
SUMMARY:Green Oaks- Two Step Sunday
DESCRIPTION:Your bring the energy and Green Oaks will bring the party to #TwoStepsunday on March 22nd. Learn the steps at 5PM\, then dance the night away starting at 6PM.
X-ALT-DESC;FMTTYPE=text/html:<p><span style="font-size:13pt">Your bring the energy and Green Oaks will bring the party to #TwoStepsunday on March 22nd. Learn the steps at 5PM\, then dance the night away starting at 6PM.</span></p>\n\n<div>&nbsp\;</div>\n
LOCATION:DALEEE KTAOS 9 NM-150 Taos\, NM
UID:e.80.38681
SEQUENCE:3
DTSTAMP:20260421T142845Z
URL:https://www.taoschamber.com/events/details/green-oaks-two-step-sunday-38681
END:VEVENT

END:VCALENDAR
