BEGIN:VCALENDAR
VERSION:2.0
PRODID:-//ChamberMaster//Event Calendar 2.0//EN
METHOD:PUBLISH
X-PUBLISHED-TTL:P3D
REFRESH-INTERVAL:P3D
CALSCALE:GREGORIAN
BEGIN:VEVENT
DTSTART:20210923T233000Z
DTEND:20210924T003000Z
X-MICROSOFT-CDO-ALLDAYEVENT:FALSE
SUMMARY:Gallery Talk and Book Signing with Maja Ruznic
DESCRIPTION:In celebration of the closing weekend for In the Sliver of the Sun\, join artist Maja Ruznic and Curator Nicole Dial-Kay for an intimate conversation in the galleries. A limited number of signed catalogues are available for purchase. \n\nThe works in this series depict ghostly figures that arouse a sense of touch through erasure. Simultaneously fading into and emerging from the horizon\, they seem to be returning from a long journey. Ruznic's experiences as a Bosnian war refugee and immigrant prefaced her artistic preoccupations with history\, myth\, suffering\, and trauma. Vivid and darkly humorous\, her figures emerge from the canvas with the hazy incandescence of memory. Learn more about the exhibition and the artist here.  \n\nMasks and social distancing are required in all indoor spaces at the Harwood. See our COVID-safe practices here. \n\n\n\nImage credit: Maja Ruznic in her studio\; courtesy of the artist.
X-ALT-DESC;FMTTYPE=text/html:<p style="margin-left:0px\; margin-right:0px">In celebration of the closing&nbsp\;weekend for&nbsp\;<em>In the Sliver of the Sun</em>\, join artist Maja&nbsp\;Ruznic&nbsp\;and Curator Nicole Dial-Kay for an&nbsp\;intimate&nbsp\;conversation in the&nbsp\;galleries.&nbsp\;A limited number of signed catalogues&nbsp\;are available for purchase.&nbsp\;</p>\n\n<p>The works in this series depict ghostly figures that arouse a sense of touch through erasure. Simultaneously fading into and emerging from the horizon\, they seem to be returning from a long journey. Ruznic&rsquo\;s experiences as a Bosnian war refugee and immigrant prefaced her artistic preoccupations with history\, myth\, suffering\, and trauma. Vivid and darkly humorous\, her figures emerge from the canvas with the hazy incandescence of memory.&nbsp\;Learn more about the exhibition and the&nbsp\;artist&nbsp\;<a href="https://harwoodmuseum.org/exhibition/in-the-sliver-of-the-sun-maja-ruznic/" style="box-sizing: border-box\; margin: 0px\; padding: 0px\; border: 0px\; outline: 0px\; text-size-adjust: 100%\; vertical-align: baseline\; background: transparent\; color: rgb(186\, 12\, 47)\; text-decoration-line: none\; font-weight: bold\;">here</a>.&nbsp\;&nbsp\;</p>\n\n<p>Masks and social distancing are required in all indoor spaces at the Harwood. See our COVID-safe practices&nbsp\;<a href="https://harwoodmuseum.org/visit/covid-safe/" style="box-sizing: border-box\; margin: 0px\; padding: 0px\; border: 0px\; outline: 0px\; text-size-adjust: 100%\; vertical-align: baseline\; background: transparent\; color: rgb(186\, 12\, 47)\; text-decoration-line: none\; font-weight: bold\;">here</a>.&nbsp\;<br />\n<br />\nImage credit: <em>Maja Ruznic in her studio</em>\; courtesy of the artist.</p>\n
LOCATION:Harwood Museum of Art\, 238 Ledoux St Taos\, NM 87571 United States
UID:e.80.23195
SEQUENCE:3
DTSTAMP:20260423T161432Z
URL:https://www.taoschamber.com/events/details/gallery-talk-and-book-signing-with-maja-ruznic-23195
END:VEVENT

END:VCALENDAR
