BEGIN:VCALENDAR
VERSION:2.0
PRODID:-//ChamberMaster//Event Calendar 2.0//EN
METHOD:PUBLISH
X-PUBLISHED-TTL:P3D
REFRESH-INTERVAL:P3D
CALSCALE:GREGORIAN
BEGIN:VEVENT
DTSTART:20250314T230000Z
DTEND:20250315T003000Z
X-MICROSOFT-CDO-ALLDAYEVENT:FALSE
SUMMARY:Charles Ross: Mansion of the Zodiac Directors’ Circle and Member Preview
DESCRIPTION:Harwood Members receive a sneak peek of Charles Ross: Mansions of the Zodiac with remarks by the artist and Curator Nicole Dial-Kay. Refreshments will be available in the "Members Lounge."  \n\n\n\nBecome a Member today to support the Museum and gain access to exclusive events. Join now!  \n\n\n\n  \n\n\n\nImage Credit: Charles Ross\, Point Source / Star Space: Weave of Ages\, 1975/86\, mixed media on paper mounted on canvas\, created with 428 photographs from the Falkau Star Atlas which covers the entire celestial sphere from pole to pole\, the viewpoint is that of the observer at the center of the earth\, 106 x 225 inches. Courtesy of the artist.
X-ALT-DESC;FMTTYPE=text/html:<div>\n<p><span style="color:windowtext\; font-family:calibri\,calibri_embeddedfont\,calibri_msfontservice\,sans-serif\; font-size:12pt">Harwood Members receive a sneak peek of&nbsp\;</span><a class="Hyperlink SCXW141377364 BCX0" href="https://harwoodmuseum.org/exhibition/charles-ross-mansions-of-the-zodiac/" rel="noreferrer noopener" style="-webkit-user-drag: none\; -webkit-tap-highlight-color: transparent\; margin: 0px\; padding: 0px\; user-select: text\; text-decoration-line: none\; color: inherit\;" target="_blank"><strong>Charles Ross: Mansions of the Zodiac</strong></a><span style="color:windowtext\; font-family:calibri\,calibri_embeddedfont\,calibri_msfontservice\,sans-serif\; font-size:12pt">&nbsp\;</span><span style="color:windowtext\; font-family:calibri\,calibri_embeddedfont\,calibri_msfontservice\,sans-serif\; font-size:12pt">with remarks by&nbsp\;the artist&nbsp\;and Curator Nicole Dial-Kay. Refreshments&nbsp\;will be available in the &ldquo\;Members Lounge.&rdquo\;&nbsp\;</span><span style="color:windowtext\; font-family:calibri\,calibri_embeddedfont\,calibri_msfontservice\,sans-serif\; font-size:12pt">&nbsp\;</span></p>\n</div>\n\n<div>\n<p><span style="color:windowtext\; font-family:calibri\,calibri_embeddedfont\,calibri_msfontservice\,sans-serif\; font-size:12pt">Become a Member today to support the Museum and gain access to exclusive events.&nbsp\;</span><a class="Hyperlink SCXW141377364 BCX0" href="https://harwoodmuseum.org/support/memberships/" rel="noreferrer noopener" style="-webkit-user-drag: none\; -webkit-tap-highlight-color: transparent\; margin: 0px\; padding: 0px\; user-select: text\; text-decoration-line: none\; color: inherit\;" target="_blank"><strong>Join now!</strong></a><span style="color:windowtext\; font-family:calibri\,calibri_embeddedfont\,calibri_msfontservice\,sans-serif\; font-size:12pt">&nbsp\;</span><span style="color:windowtext\; font-family:calibri\,calibri_embeddedfont\,calibri_msfontservice\,sans-serif\; font-size:12pt">&nbsp\;</span></p>\n</div>\n\n<div>\n<p><span style="color:windowtext\; font-family:calibri\,calibri_embeddedfont\,calibri_msfontservice\,sans-serif\; font-size:12pt">&nbsp\;</span><span style="color:windowtext\; font-family:calibri\,calibri_embeddedfont\,calibri_msfontservice\,sans-serif\; font-size:12pt">&nbsp\;</span></p>\n</div>\n\n<div>\n<p><span style="color:windowtext\; font-family:calibri\,calibri_embeddedfont\,calibri_msfontservice\,sans-serif\; font-size:12pt">Image Credit: Charles Ross\,&nbsp\;</span><span style="color:windowtext\; font-family:calibri\,calibri_embeddedfont\,calibri_msfontservice\,sans-serif\; font-size:12pt">Point Source / Star Space: Weave of Ages\,&nbsp\;</span><span style="color:windowtext\; font-family:calibri\,calibri_embeddedfont\,calibri_msfontservice\,sans-serif\; font-size:12pt">1975/86\, mixed media on paper mounted on canvas\, created with 428 photographs from the Falkau Star Atlas which covers the entire celestial sphere from pole to pole\, the viewpoint is that of the observer at the center of the earth\, 106 x 225 inches. Courtesy of the artist.</span><span style="color:windowtext\; font-family:calibri\,calibri_embeddedfont\,calibri_msfontservice\,sans-serif\; font-size:12pt">&nbsp\;</span></p>\n</div>\n
LOCATION:Harwood Museum of Art 238 Ledoux Street Taos\, Nm 87571
UID:e.80.29398
SEQUENCE:3
DTSTAMP:20260420T074938Z
URL:https://www.taoschamber.com/events/details/charles-ross-mansion-of-the-zodiac-directors-circle-and-member-preview-29398
END:VEVENT

END:VCALENDAR
